2.06817531391526
0
0
-2.06817531391541
547478.419075046
4792719.44611171
