1.45070350781489
0
0
-1.45070350781502
547481.331058376
4802718.31698074
