2.2197984017653
0
0
-2.21979840176504
557477.628239637
4805228.57278006
