2.06816982798027
0
0
-2.06816982798036
549980.968469807
4792719.44610896
