2.05648865857583
0
0
-2.05648865857611
549977.053416453
4795224.61567409
