1.61280235459415
0
0
-1.61280235459415
549974.97823872
4820224.60923755
