1.55028609482015
0
0
-1.5502860948199
552478.00091066
4810226.35667385
