1.720924907456649
0.000000000000000
0.000000000000000
-1.721008549007454
554276.961046550770000
4807902.521981745000000
