1.57271668855272
0
0
-1.57271668855297
549974.031424478
4807723.16007173
