2.07169843683482
0
0
-2.07169843683505
557471.650889275
4812725.50986772
