1.53297112635509
0
0
-1.53297112635522
557471.222400312
4810225.0265081
