1.63874133042597
0
0
-1.63874133042581
529988.073831728
4830214.81045923
