1.5802675244098
0
0
-1.58026752441008
529987.071847485
4825217.14189376
