2.13779287230549
0
0
-2.13779287230581
534983.415416656
4822714.25958365
