2.13778069309427
0
0
-2.13778069309392
539977.397085319
4822718.5243299
