2.13779287230638
0
0
-2.13779287230667
532486.42278589
4822718.52433599
