1.51765212410207
0
0
-1.51765212410228
532486.732531343
4837714.25233241
