1.47003337897098
0
0
-1.4700333789708
519990.24587709
4820208.93453531
