2.1907675371681
0
0
-2.19076753716813
517491.848925925
4835215.30821639
