2.29636249257315
0
0
-2.2963624925734
512494.904796144
4825207.06717603
