2.30988779356463
0
0
-2.30988779356431
519983.996801154
4835219.73803055
