1.48658027304169
0
0
-1.48658027304182
512490.138570409
4820205.50255983
