2.23334193464414
0
0
-2.23334193464408
522485.585995613
4825212.52255583
