1.63298431034934
0
0
-1.63298431034936
514991.552322326
4830211.2975486
