2.08038840905786
0
0
-2.08038840905791
514990.551478031
4822711.68215441
