1.50333488438011
0
0
-1.50333488438009
509995.945993332
4817711.98157312
