2.25325376783186
0
0
-2.25325376783166
519988.364431339
4822712.39933863
