2.25323221240598
0
0
-2.25323221240577
524987.939656431
4822713.46129517
