2.30988779357402
0
0
-2.30988779357366
517447.735788688
4832720.38885643
