1.75102301321987
0
0
-1.75102301321975
517483.076182338
4827711.87318301
