1.45369122082181
0
0
-1.45369122082185
512495.016369929
4817705.82292606
