2.25324655698583
0
0
-2.25324655698579
527483.876955047
4822710.01885774
