1.48658027304141
0
0
-1.4865802730415
517493.680078097
4817710.40288818
