1.53913336638316
0
0
-1.53913336638293
514989.433968643
4825207.26270311
