2.06239935467265
0
0
-2.06239935467278
527487.991707134
4800211.40182854
