1.5285972253882
0
0
-1.52859722538829
527487.340958332
4815211.6103631
