1.44715764275602
0
0
-1.44715764275602
524988.06079144
4802711.6350715
