2.05993334753638
0
0
-2.05993334753651
524982.665639822
4812715.68643351
