2.0717482214496
0
0
-2.07174822144933
517482.340709071
4812713.09984816
