2.07174261703957
0
0
-2.07174261703962
522487.728728961
4812713.09984536
