1.22527295380113
0
0
-1.22527295380083
549985.875832646
4824424.30873304
