3.04955252868537
0
0
-3.04955252868523
529982.621950047
4815212.98764578
