3.12830019753663
0
0
-3.12830019753633
539978.897449154
4802714.93145549
