3.12830019753346
0
0
-3.12830019753362
534985.983574129
4802721.18419378
