3.25024462147111
0
0
-3.25024462147053
529985.456858243
4797720.32160909
