3.55365504351432
0
0
-3.55365504351491
544976.150669844
4797718.41098835
