3.5085769485556
0
0
-3.50857694855596
559976.117073525
4800227.65428079
