3.55359974317689
0
0
-3.55359974317633
557471.347783084
4795227.23882962
