3.55364116043289
0
0
-3.5536411604331
559976.699474318
4797718.41098141
