3.55364116043292
0
0
-3.5536411604331
552478.224206259
4797718.41098141
